BEGIN:VCALENDAR
VERSION:2.0
PRODID:http://www.st-franziskus-remagen.de
BEGIN:VEVENT
UID:f50b4a95-3e11-11f1-a3e9-0242ac11002b-1777051800000-de
DTSTAMP:20260422T061027Z
DTSTART:20260424T173000Z
SUMMARY;LANGUAGE=de:Stephan Wahl liest am 24. April in der Kath. Kirche Kripp
DESCRIPTION;LANGUAGE=de:Kripper Bücherei lädt zu einer besonderen Lesung mit musikalischer Begleitung in die Kirche
IMAGE;VALUE=URI;DISPLAY=BADGE;FMTTYPE=image/jpeg:http://www.st-franziskus-remagen.de/export/sites/pfarreien/pfarreiengemeinschaft-remagen/.galleries/bilder/Plakat_Wahl_240426.png
END:VEVENT
END:VCALENDAR
